BEGIN:VCALENDAR
VERSION:2.0
PRODID:-//Helsingin Seudun Monikkoperheet - ECPv6.15.12.1//NONSGML v1.0//EN
CALSCALE:GREGORIAN
METHOD:PUBLISH
X-ORIGINAL-URL:https://www.hmp.fi
X-WR-CALDESC:Tapahtumat Helsingin Seudun Monikkoperheet
REFRESH-INTERVAL;VALUE=DURATION:PT1H
X-Robots-Tag:noindex
X-PUBLISHED-TTL:PT1H
BEGIN:VTIMEZONE
TZID:Europe/Helsinki
BEGIN:DAYLIGHT
TZOFFSETFROM:+0200
TZOFFSETTO:+0300
TZNAME:EEST
DTSTART:20220327T010000
END:DAYLIGHT
BEGIN:STANDARD
TZOFFSETFROM:+0300
TZOFFSETTO:+0200
TZNAME:EET
DTSTART:20221030T010000
END:STANDARD
BEGIN:DAYLIGHT
TZOFFSETFROM:+0200
TZOFFSETTO:+0300
TZNAME:EEST
DTSTART:20230326T010000
END:DAYLIGHT
BEGIN:STANDARD
TZOFFSETFROM:+0300
TZOFFSETTO:+0200
TZNAME:EET
DTSTART:20231029T010000
END:STANDARD
BEGIN:DAYLIGHT
TZOFFSETFROM:+0200
TZOFFSETTO:+0300
TZNAME:EEST
DTSTART:20240331T010000
END:DAYLIGHT
BEGIN:STANDARD
TZOFFSETFROM:+0300
TZOFFSETTO:+0200
TZNAME:EET
DTSTART:20241027T010000
END:STANDARD
END:VTIMEZONE
BEGIN:VEVENT
DTSTART;TZID=Europe/Helsinki:20230301T173000
DTEND;TZID=Europe/Helsinki:20230301T193000
DTSTAMP:20260425T175746
CREATED:20230103T065847Z
LAST-MODIFIED:20230103T065847Z
UID:9035-1677691800-1677699000@www.hmp.fi
SUMMARY:Monikkotapaaminen Tuusulassa
DESCRIPTION:Monikkotapaamiset Tuusulassa kaksos-\, kolmos ja nelosperheille Perhetupa Myötätuulessa\, Klaavonkalliossa päiväkoti Mainingin yhteydessä\, osoitteessa Purjekuja 1\, Tuusula (käynti Hyökkäläntien puolelta). \nTapaamisiin ei tarvitse ilmoittautua etukäteen. \nTarjolla pieni iltapala. \nLämpimästi tervetuloa! \nYhteyshenkilö Salla Talvitie\, salla.talvitie@evl.fi \nLisätietoja perhetupa Myötätuulesta\, Merja Väisänen\, p. 040 314 4845
URL:https://www.hmp.fi/tapahtuma/monikkotapaaminen-tuusulassa-3/
LOCATION:Perhekeskus Myötätuuli\, Purjekuja 1\, Tuusula
CATEGORIES:monikkotapaamiset
ATTACH;FMTTYPE=image/jpeg:https://www.hmp.fi/wp-content/uploads/2023/01/bebe-g5a165728b_1280.jpg
END:VEVENT
BEGIN:VEVENT
DTSTART;TZID=Europe/Helsinki:20230304T100000
DTEND;TZID=Europe/Helsinki:20230304T120000
DTSTAMP:20260425T175746
CREATED:20230222T200322Z
LAST-MODIFIED:20230228T190400Z
UID:9085-1677924000-1677931200@www.hmp.fi
SUMMARY:Kiipeilykokeilu BK Flash
DESCRIPTION:Monikkoperheet pääsevät kokeilemaan kiipeilyä ohjatusti upouudessa Boulderkeskuksen BK Flash-hallissa\, joka on Suomen ensimmäinen lasten ja nuorten kiipeilyyn suunniteltu halli. BK Flashin herkkuihin kuuluvat mm. supersuosittu Valomotion peliseinä\, uusi liukumäki ja sarvikuono Kuoma\, jonka päällä ja ympärillä perheen pienimmätkin pääsevät nauttimaan kiipeilyn ilosta. \nRyhmät ovat 15 lapselle \n\n3-6 -vuotiaat klo 10-11\n7-18 -vuotiaat klo 11-12\n\nLapset ovat kiipeilyhallilla vanhemman/huoltajan vastuulla\, hallista ei voi poistua alle 14-vuotiaan lapsen kiipeilyn aikana. Pienten ryhmässä on lapsilla oltava oma aikuinen avustamassa (min. 1 aikuinen / 2 lasta). Aikuiset eivät kiipeile näissä kokeiluryhmissä. \nPaikalla tulee olla noin 10 minuuttia ennen kiipeilyn aloitusta.Sisäliikuntavarustusta\, esim. trikoot tai shortsit ja t-paita.  Oma juomapullo on tärkeä olla mukana! \nMikäli hallilla on tilaa\, niin kokeilun jälkeen voi jatkaa kiipeilyä. Ensikertalaiset aikuiset saavat kengät ilmaiseksi vuokralle ja lastenlippuihin kuuluvat aina kengät. Omatoimisessa kiipeilyssä kannattaa huomioida\, että paikalle tarvitaan vähintään yksi valvoja/huoltaja per 3 lasta. \nTapahtuma on vain yhdistyksen jäsenperheille.  Lippujen hinta 8\,5 eur/hlö (sisältää kengät)\, yhdistys tarjoaa kiipeilyopastuksen.  Sitova ennakkoilmoittautuminen to 2.3. klo 20 mennessä jäsenrekisterissä https://byte.flomembers.com/helsingin-seudun-monikkoperheet. Ilmoittautuminen on sitova eli ilmoittautunut sitoutuu maksamaan osallistumismaksut\, jos joutuu ilmoittautumisajan päätyttyä peruuttamaan osallistumisen\, eikä paikoille löydy toista käyttäjää yhdistyksen kautta. Liput laskutetaan jäsenrekisterin kautta tapahtuman jälkeen\, maksuaika 7 vrk. \nLisätietoja tarvittaessa tapahtuma.hmp@gmail.com
URL:https://www.hmp.fi/tapahtuma/kiipeilykokeilu-040323/
LOCATION:BK Flash\, Niittyrinne 2 B\, Espoo
CATEGORIES:Ilmoittautuminen vaaditaan,muut
ATTACH;FMTTYPE=image/jpeg:https://www.hmp.fi/wp-content/uploads/2023/01/bouldering.jpg
ORGANIZER;CN="HMP Tapahtumat":MAILTO:tapahtuma.hmp@gmail.com
END:VEVENT
BEGIN:VEVENT
DTSTART;TZID=Europe/Helsinki:20230312T130000
DTEND;TZID=Europe/Helsinki:20230312T134500
DTSTAMP:20260425T175746
CREATED:20230122T172753Z
LAST-MODIFIED:20230122T173629Z
UID:9069-1678626000-1678628700@www.hmp.fi
SUMMARY:Teatteri Hevosenkenkä - Hotelli Home ja Hiipivä Hepuli
DESCRIPTION:Tervetuloa HMP:n yksityisnäytökseen katsomaan esitystä Hotelli Home ja Hiipivä Hepuli! \nHotellin johtaja Herbert Home on alkanut käyttäytyä omituisesti: hän ei halua enää leikkiä. Pikkolo Peik Kolo ja hotellivieraat ovat aivan ymmällään. Mistä tämä kaikki johtuu? Joutuvatko hotellivieraat kaatopaikalle? Joutuvatko kaikki hiipivän hepulin valtaan? Hotellivieraat ja Pikkolo Peik päättävät tarttua toimeen ja monen hauskan kommelluksen kautta kaikki ratkeaa\, mutta miten…?\n\nHotelli Home on hurmaava näytelmä hotellin sydämellisestä henkilökunnasta ja puuhakkaista asukkaista. Esitys sopii koko perheelle – Hotelli Home toivottaa kaikki tervetulleeksi!\n\nLipun hinta on yhdistyksen jäsenperheille 8 euroa / henkilö (lipun normihinta 14\,50).  Hintaan sisältyy jäätelöpuikko tai kahvi. Esityksen suositusikä on 3-vuotiaasta ylöspäin. Kesto noin 45 min. \nSitova ennakkoilmoittautuminen jäsenrekisterissä https://byte.flomembers.com/helsingin-seudun-monikkoperheet. Ilmoittautuminen on sitova eli ilmoittautunut sitoutuu maksamaan liput\, jos hän ei pystykään käyttämään lippuja eikä lipuille ei löydy toista käyttäjää yhdistyksen kautta.. Liput laskutetaan jäseniltä 13.3.2023 ja laskulle tulee 7 pv maksuaika. \nLisätietoja tarvittaessa tapahtuma.hmp@gmail.com \nHotelli Home ja Hiipivä Hepuli \n \n\nTeatterin osoite: Teatteri Hevosenkenkä\, Juhannusmäki 2\, Espoo\n\n\nTekijät\nOhjaus: Elina Stirkkinen\nKäsikirjoitus: Eero Ahre\, Pekka Heiman\, Elina Stirkkinen\nRooleissa: Eero Ahre ja Pekka Heiman\nLavastus: Mimmi Resman\nNuket: Mimmi Resman ja Fanni Lieto\nMusiikki: Tommi Lindell\nValosuunnittelu: Jani Salmi
URL:https://www.hmp.fi/tapahtuma/teatteri-hevosenkenka-hotelli-home-ja-hiipiva-hepuli/
LOCATION:Teatteri Hevosenkenkä\, Juhannusmäki 2\, Espoo
CATEGORIES:Ilmoittautuminen vaaditaan,muut
ATTACH;FMTTYPE=image/jpeg:https://www.hmp.fi/wp-content/uploads/2023/01/Herbert-Home_001-scaled.jpg
END:VEVENT
BEGIN:VEVENT
DTSTART;TZID=Europe/Helsinki:20230318T130000
DTEND;TZID=Europe/Helsinki:20230318T140000
DTSTAMP:20260425T175746
CREATED:20230308T195610Z
LAST-MODIFIED:20230308T195610Z
UID:9117-1679144400-1679148000@www.hmp.fi
SUMMARY:Kiipeilykokeilu BK Flash
DESCRIPTION:Monikkoperheet pääsevät kokeilemaan kiipeilyä ohjatusti upouudessa Boulderkeskuksen BK Flash-hallissa\, joka on Suomen ensimmäinen lasten ja nuorten kiipeilyyn suunniteltu halli. BK Flashin herkkuihin kuuluvat mm. supersuosittu Valomotion peliseinä\, uusi liukumäki ja sarvikuono Kuoma\, jonka päällä ja ympärillä perheen pienimmätkin pääsevät nauttimaan kiipeilyn ilosta. \nTämä ryhmä on 3-8 -vuotiaille\, 15 lapselle \nLapset ovat kiipeilyhallilla vanhemman/huoltajan vastuulla\, hallista ei voi poistua alle 14-vuotiaan lapsen kiipeilyn aikana. Pienten ryhmässä on lapsilla oltava oma aikuinen avustamassa (min. 1 aikuinen / 2 lasta). Aikuiset eivät kiipeile näissä kokeiluryhmissä. \nPaikalla tulee olla noin 10 minuuttia ennen kiipeilyn aloitusta.Sisäliikuntavarustusta\, esim. trikoot tai shortsit ja t-paita. Oma juomapullo on tärkeä olla mukana! \nMikäli hallilla on tilaa\, niin kokeilun jälkeen voi jatkaa kiipeilyä. Ensikertalaiset aikuiset saavat kengät ilmaiseksi vuokralle ja lastenlippuihin kuuluvat aina kengät. Omatoimisessa kiipeilyssä kannattaa huomioida\, että paikalle tarvitaan vähintään yksi valvoja/huoltaja per 3 lasta. \nTapahtuma on vain yhdistyksen jäsenperheille. Lippujen hinta 8\,5 eur/hlö (sisältää kengät)\, yhdistys tarjoaa kiipeilyopastuksen. Sitova ennakkoilmoittautuminen la 18.3. klo 11 mennessä jäsenrekisterissä https://byte.flomembers.com/helsingin-seudun-monikkoperheet. Hoidathan tarvittaessa peruutuksen joko jäsenrekisterin kautta tai ilmoittamalla esteestä tai sairastumisesta sähköpostitse tapahtuma.hmp@gmail.com. Kiipeilyliput maksetaan paikan päällä kassalle\, kertokaa olevanne monikkoperheryhmää. \nLisätietoja tarvittaessa tapahtuma.hmp@gmail.com
URL:https://www.hmp.fi/tapahtuma/kiipeilykokeilu-bk-flash-180323/
LOCATION:BK Flash\, Niittyrinne 2 B\, Espoo
CATEGORIES:Ilmoittautuminen vaaditaan,muut
ATTACH;FMTTYPE=image/jpeg:https://www.hmp.fi/wp-content/uploads/2023/01/bouldering.jpg
ORGANIZER;CN="HMP Tapahtumat":MAILTO:tapahtuma.hmp@gmail.com
END:VEVENT
BEGIN:VEVENT
DTSTART;TZID=Europe/Helsinki:20230329T170000
DTEND;TZID=Europe/Helsinki:20230329T190000
DTSTAMP:20260425T175746
CREATED:20230217T185738Z
LAST-MODIFIED:20230217T185748Z
UID:9106-1680109200-1680116400@www.hmp.fi
SUMMARY:Perhevalmennus - asiantuntijailta: Monikkoraskaus ja -synnytys
DESCRIPTION:Perhevalmennuksen ensimmäisessä osuudessa erikoislääkäri kertoo monikkoraskaudesta lääke- ja tilastotieteellisestä sekä biologisesta näkökulmasta. Kätilö kertoo odotuksesta ja synnytyksestä\, siihen valmistautumisesta sekä sairaalassaolosta (erityisesti HUS / Naistenklinikka). \nTilaisuuteen voivat osallistua kaikki monikko-odottajat tulevasta synnytyssairaalasta riippumatta. Osallistuminen ei edellytä yhdistyksen jäsenyyttä. \nPerhevalmennus toteutetaan verkkotapahtumana Teams-ympäristössä ja  osallistuminen edellytää internet-yhteyttä ja voi käyttää selainta tai puhelimessa maksutonta appia.  Tapahtumaa ei tallenneta. \nSuosittelemme tutustumaan myös Suomen Monikkoperheet ry:n tuottamaan Hyvä alku monikkovanhemmuuteen -kurssiin https://www.hyvakysymys.fi/kurssi/hyva-alku-monikkovanhemmuuteen/ \nTilaisuus alkaa klo 17.00 Helsingin Seudun Monikkoperheet ry:n lyhellä alustuksella. \nPerhevalmennuksen toinen osuus Monikkoarki\, jossa on monikkovanhempia vertaistukipuhujina sekä Imetyksen Tuki ry pidetään verkkotapahtumana tätä tapahtumaa seuraavilla viikoilla keskiviikkoisin 5.4. ja 12.4. klo 17-19. Näihin tapahtumiin on erilliset ilmoittautumislomakkeet. \nIlmoittautuminen tähän tapahtumaan tällä lomakkeella https://forms.gle/4sUTQz93tuCZwUZi8 \nVertaistuki-iltoihin ilmoittaudutaan erikseen. \nLisätietoja perhevalmennus@hmp.fi ja https://www.facebook.com/hmp.monikkoperhevalmennus
URL:https://www.hmp.fi/tapahtuma/perhevalmennus-asiantuntijailta-290323/
LOCATION:Verkkotapahtuma
CATEGORIES:Ilmoittautuminen vaaditaan,monikkoperhevalmennus
ATTACH;FMTTYPE=image/jpeg:https://www.hmp.fi/wp-content/uploads/2015/08/HMP_kuvituskuva_ultra.jpg
ORGANIZER;CN="HMP Perhevalmennus":MAILTO:perhevalmennus@hmp.fi
END:VEVENT
BEGIN:VEVENT
DTSTART;TZID=Europe/Helsinki:20230329T173000
DTEND;TZID=Europe/Helsinki:20230329T193000
DTSTAMP:20260425T175746
CREATED:20230103T065913Z
LAST-MODIFIED:20230103T065913Z
UID:9036-1680111000-1680118200@www.hmp.fi
SUMMARY:Monikkotapaaminen Tuusulassa
DESCRIPTION:Monikkotapaamiset Tuusulassa kaksos-\, kolmos ja nelosperheille Perhetupa Myötätuulessa\, Klaavonkalliossa päiväkoti Mainingin yhteydessä\, osoitteessa Purjekuja 1\, Tuusula (käynti Hyökkäläntien puolelta). \nTapaamisiin ei tarvitse ilmoittautua etukäteen. \nTarjolla pieni iltapala. \nLämpimästi tervetuloa! \nYhteyshenkilö Salla Talvitie\, salla.talvitie@evl.fi \nLisätietoja perhetupa Myötätuulesta\, Merja Väisänen\, p. 040 314 4845
URL:https://www.hmp.fi/tapahtuma/monikkotapaaminen-tuusulassa-4/
LOCATION:Perhekeskus Myötätuuli\, Purjekuja 1\, Tuusula
CATEGORIES:monikkotapaamiset
ATTACH;FMTTYPE=image/jpeg:https://www.hmp.fi/wp-content/uploads/2023/01/bebe-g5a165728b_1280.jpg
END:VEVENT
END:VCALENDAR