BEGIN:VCALENDAR
VERSION:2.0
PRODID:-//Helsingin Seudun Monikkoperheet - ECPv6.15.12.1//NONSGML v1.0//EN
CALSCALE:GREGORIAN
METHOD:PUBLISH
X-ORIGINAL-URL:https://www.hmp.fi
X-WR-CALDESC:Tapahtumat Helsingin Seudun Monikkoperheet
REFRESH-INTERVAL;VALUE=DURATION:PT1H
X-Robots-Tag:noindex
X-PUBLISHED-TTL:PT1H
BEGIN:VTIMEZONE
TZID:Europe/Helsinki
BEGIN:DAYLIGHT
TZOFFSETFROM:+0200
TZOFFSETTO:+0300
TZNAME:EEST
DTSTART:20220327T010000
END:DAYLIGHT
BEGIN:STANDARD
TZOFFSETFROM:+0300
TZOFFSETTO:+0200
TZNAME:EET
DTSTART:20221030T010000
END:STANDARD
BEGIN:DAYLIGHT
TZOFFSETFROM:+0200
TZOFFSETTO:+0300
TZNAME:EEST
DTSTART:20230326T010000
END:DAYLIGHT
BEGIN:STANDARD
TZOFFSETFROM:+0300
TZOFFSETTO:+0200
TZNAME:EET
DTSTART:20231029T010000
END:STANDARD
BEGIN:DAYLIGHT
TZOFFSETFROM:+0200
TZOFFSETTO:+0300
TZNAME:EEST
DTSTART:20240331T010000
END:DAYLIGHT
BEGIN:STANDARD
TZOFFSETFROM:+0300
TZOFFSETTO:+0200
TZNAME:EET
DTSTART:20241027T010000
END:STANDARD
END:VTIMEZONE
BEGIN:VEVENT
DTSTART;TZID=Europe/Helsinki:20230405T170000
DTEND;TZID=Europe/Helsinki:20230405T190000
DTSTAMP:20260425T161549
CREATED:20230217T185255Z
LAST-MODIFIED:20230217T185255Z
UID:9104-1680714000-1680721200@www.hmp.fi
SUMMARY:Perhevalmennus: Monikkoarki 1
DESCRIPTION:Perhevalmennus järjestetään Teams-tapahtumana. Monikkoarki-osuus jaetaan kahdelle illalle ke 5.4. ja 12.4.  Kumpaankin iltaan ilmoittaudutaan erikseen. \nMonikkovanhemmat kertovat omien kokemustensa pohjalta mm. monikkojen odotuksesta\, synnytyksestä\, imetyksestä ja alkuajoista kotona. Lisäksi aiheina voi olla esim. isän rooli\, sisarusten huomioonottaminen\, kodin hankinnat ja järjestelyt sekä erilaiset käytännön vinkit. \nTilaisuuteen voivat osallistua kaikki monikko-odottajat tulevasta synnytyssairaalasta riippumatta. Osallistuminen ei edellytä yhdistyksen jäsenyyttä. Ennakkoilmoittautuminen tapahtumaan on tarpeen\, linkki Teams-tapahtumaan lähetetään vain ennakkoon ilmoittautuneille. \nImetyksen Tuki ry on toisessa vertaistuki-illassa kertomassa sekä monikkojen imetyksestä että imetykseen yleisesti liittyvistä asioista. \nVertaistuki-iltoihin ilmoittaudutaan erikseen. Keskiviikon 5.4. vertaistuki-iltaan ilmoittaudutaan tällä lomakkeella https://forms.gle/JwS5Hb65d5NmeepB8 ja 12.4. vertaistuki-iltaan tällä lomakkeella https://forms.gle/1xZM1g6dfMqkpdze7 \nKannattaa seurata myös yhdistyksen tiedotusta  https://www.facebook.com/helsinginseudunmonikkoperheet/  ja https://www.facebook.com/hmp.monikkoperhevalmennus/ \nLisätietoja tarvittaessa perhevalmennus@hmp.fi
URL:https://www.hmp.fi/tapahtuma/perhevalmennus-monikkoarki-050423/
LOCATION:Verkkotapahtuma
CATEGORIES:Ilmoittautuminen vaaditaan,monikkoperhevalmennus
ORGANIZER;CN="HMP Perhevalmennus":MAILTO:perhevalmennus@hmp.fi
END:VEVENT
BEGIN:VEVENT
DTSTART;TZID=Europe/Helsinki:20230412T170000
DTEND;TZID=Europe/Helsinki:20230412T190000
DTSTAMP:20260425T161549
CREATED:20230217T185115Z
LAST-MODIFIED:20230217T185208Z
UID:9102-1681318800-1681326000@www.hmp.fi
SUMMARY:Perhevalmennus: Monikkoarki 2
DESCRIPTION:Perhevalmennus järjestetään Teams-tapahtumana. Monikkoarki-osuus jaetaan kahdelle illalle ke 5.4. ja 12.4.  Kumpaankin iltaan ilmoittaudutaan erikseen. \nMonikkovanhemmat kertovat omien kokemustensa pohjalta mm. monikkojen odotuksesta\, synnytyksestä\, imetyksestä ja alkuajoista kotona. Lisäksi aiheina voi olla esim. isän rooli\, sisarusten huomioonottaminen\, kodin hankinnat ja järjestelyt sekä erilaiset käytännön vinkit. \nTilaisuuteen voivat osallistua kaikki monikko-odottajat tulevasta synnytyssairaalasta riippumatta. Osallistuminen ei edellytä yhdistyksen jäsenyyttä. Ennakkoilmoittautuminen tapahtumaan on tarpeen\, linkki Teams-tapahtumaan lähetetään vain ennakkoon ilmoittautuneille. \nImetyksen Tuki ry on toisessa vertaistuki-illassa kertomassa sekä monikkojen imetyksestä että imetykseen yleisesti liittyvistä asioista. \nVertaistuki-iltoihin ilmoittaudutaan erikseen. Keskiviikon 5.4. vertaistuki-iltaan ilmoittaudutaan tällä lomakkeella https://forms.gle/JwS5Hb65d5NmeepB8 ja 12.4. vertaistuki-iltaan tällä lomakkeella https://forms.gle/1xZM1g6dfMqkpdze7 \nKannattaa seurata myös yhdistyksen tiedotusta  https://www.facebook.com/helsinginseudunmonikkoperheet/  ja https://www.facebook.com/hmp.monikkoperhevalmennus/ \nLisätietoja tarvittaessa perhevalmennus@hmp.fi
URL:https://www.hmp.fi/tapahtuma/perhevalmennus-monikkoarki-120423/
LOCATION:Verkkotapahtuma
CATEGORIES:Ilmoittautuminen vaaditaan,monikkoperhevalmennus
ORGANIZER;CN="HMP Perhevalmennus":MAILTO:perhevalmennus@hmp.fi
END:VEVENT
BEGIN:VEVENT
DTSTART;TZID=Europe/Helsinki:20230421T180000
DTEND;TZID=Europe/Helsinki:20230421T200000
DTSTAMP:20260425T161549
CREATED:20230316T204812Z
LAST-MODIFIED:20230329T182617Z
UID:9126-1682100000-1682107200@www.hmp.fi
SUMMARY:Hetki rentoutumiselle Asahin ja äänimaljojen äärellä
DESCRIPTION:Monikkovanhemmat\, lämpimästi tervetuloa perjantaina 21.4.2023 klo 18-20 Lauttasaareen huoltamaan sekä kehoa että mieltä Asahi Health™ – terveysliikuntalajin lempeiden liikkeiden ja tiibetiläisten äänimaljojen syvärentouttavien sointujen avulla. \nAsahi Health™ on Suomessa kehitetty terveysliikuntalaji\, jossa yhdistyvät sekä itämaisen että länsimaisen terveysliikunnan parhaat perinteet. Liikkeiden suunnittelussa on otettu huomioon erityisesti suomalaisten yleiset terveysongelmat kuten mm. niskan ja hartiaseudun vaivat\, selkävaivat sekä stressin aiheuttamat ongelmat. Liikkeet tehdään seisaaltaan ja Asahi sopii kaikille kunnosta riippumatta ja toimii hyvin aktiiviliikkujallekin palauttavana liikuntamuotona. Asahissa myös hengitys on isossa roolissa ja keskitymmekin tunnin aikana tähän meidän elintärkeään peruselintoimintoon ekstra paljon. \nNoin tunnin Asahi-harjoituksen jälkeen siirrytään vielä noin 45 minuutiksi pötköttelemään vilttien alle joogamatoille\, jolloin saadaan hiljentyä kuuntelemaan äänimaljojen sointuja. Maljojen harmoniset äänet ja lempeät värähtelyt rentouttavat ihanasti sekä kehoa että mieltä. Illan päätteeksi on tarjolla vielä teetä ja pientä naposteltavaa. \nPaikka: Suvitanssi & Yogan tilat osoitteessa Lauttasaarentie 13. Julkisilla tullessa Lauttasaaren metroasemalta on noin 300 metrin kävelymatka. Autolla tullessa Lauttasaarentien varrella on muutamia kadunvarsipaikkoja. Lisäksi  metroaseman yhteydessä sijaitsevalla Lauttis ostarilla on pysäköintimahdollisuus (https://www.lauttis.com/pysakointi/)\nTilasta löytyy kaikille viltit\, bolsterit ja joogamatot\, mutta halutessaan voi toki ottaa omansa mukaan. \nTapahtuma on jäsenperheiden vanhemmille\, hinta 10 eur/hlö. Ilmoittautuminen tapahtumaan jäsenrekisterissä 1.4. – 20.4.2023. Ensisijaisesti 1 osallistuja per jäsenperhe. \nIllan ohjaa Johanna Sulkumäki\, 14-vuotiaiden kaksospoikien äiti ja hyvinvointiyrittäjä\, joka on käynyt mm. Asahi Health™ ohjaajakoulutuksen\, lasten joogaohjaajakoulutuksen\, kokonaisvaltaisen rentoutusohjaajan koulutuksen\, tiibetiläisen äänimaljahoidon perus- ja jatkokoulutuksen ja sointukylpykoulutuksen.
URL:https://www.hmp.fi/tapahtuma/rentoutus-210423/
LOCATION:Suvitanssi & Yoga\, Lauttasaarentie 13\, Helsinki
CATEGORIES:Ilmoittautuminen vaaditaan,muut
ATTACH;FMTTYPE=image/jpeg:https://www.hmp.fi/wp-content/uploads/2023/03/singing-bowls.jpg
ORGANIZER;CN="HMP Tapahtumat":MAILTO:tapahtuma.hmp@gmail.com
END:VEVENT
BEGIN:VEVENT
DTSTART;TZID=Europe/Helsinki:20230426T173000
DTEND;TZID=Europe/Helsinki:20230426T193000
DTSTAMP:20260425T161549
CREATED:20230103T065948Z
LAST-MODIFIED:20230103T065948Z
UID:9037-1682530200-1682537400@www.hmp.fi
SUMMARY:Monikkotapaaminen Tuusulassa
DESCRIPTION:Monikkotapaamiset Tuusulassa kaksos-\, kolmos ja nelosperheille Perhetupa Myötätuulessa\, Klaavonkalliossa päiväkoti Mainingin yhteydessä\, osoitteessa Purjekuja 1\, Tuusula (käynti Hyökkäläntien puolelta). \nTapaamisiin ei tarvitse ilmoittautua etukäteen. \nTarjolla pieni iltapala. \nLämpimästi tervetuloa! \nYhteyshenkilö Salla Talvitie\, salla.talvitie@evl.fi \nLisätietoja perhetupa Myötätuulesta\, Merja Väisänen\, p. 040 314 4845
URL:https://www.hmp.fi/tapahtuma/monikkotapaaminen-tuusulassa-5/
LOCATION:Perhekeskus Myötätuuli\, Purjekuja 1\, Tuusula
CATEGORIES:monikkotapaamiset
ATTACH;FMTTYPE=image/jpeg:https://www.hmp.fi/wp-content/uploads/2023/01/bebe-g5a165728b_1280.jpg
END:VEVENT
BEGIN:VEVENT
DTSTART;TZID=Europe/Helsinki:20230426T180000
DTEND;TZID=Europe/Helsinki:20230426T193000
DTSTAMP:20260425T161549
CREATED:20230411T113431Z
LAST-MODIFIED:20230411T113921Z
UID:9146-1682532000-1682537400@www.hmp.fi
SUMMARY:Yhdistyksen vuosikokous
DESCRIPTION:Helsingin Seudun Monikkoperheet ry:n sääntömääräinen vuosikokous \nPaikka: Teams-verkkotapahtuma sekä Helsingin keskustakirjasto Oodi\, ryhmätyötila 8 \nAika 26.4. klo 18:00 – 19:30 \nOsallistuminen vuosikokoukseen edellyttää voimassa olevaa jäsenyyttä\, eli vuoden 2023 jäsenmaksu on maksettu. Kokoukseen on ilmoittauduttava etukäteen ja siihen on mahdollista osallistua myös etänä. Kaikilta osallistujilta toivotaan ennakkoilmoittautumista\, jotta jäsenyys voidaan tarkistaa ennen kokousta ja lähettää sähköpostitse linkki kokouksen verkkotapahtumaan sekä varautua siihen\, että varattu tila on riittävä. Ilmoittautuminen kokoukseen jäsenrekisterissä. \nAsialista: \n\nKokouksen avaus\nValitaan kokouksen puheenjohtaja\, sihteeri\, kaksi (2) pöytäkirjantarkastajaa ja kaksi (2) ääntenlaskijaa \nTodetaan kokouksen laillisuus ja päätösvaltaisuus\nHyväksytään kokouksen työjärjestys\nEsitellään vuoden 2022 toimintakertomus\, tilinpäätös ja toiminnantarkastajan lausunto\nPäätetään vuoden 2022 tilinpäätöksen vahvistamisesta ja vastuuvapauden myöntämisestä hallitukselle ja muille tilivelvollisille \nVahvistetaan vuoden 2023 toimintasuunnitelma ja tulo- ja menoarvio\nVahvistetaan vuoden 2024 liittymis- ja jäsenmaksu\nValitaan hallituksen puheenjohtaja seuraavaksi toimikaudeksi\nPäätetään hallituksen varsinaisten jäsenten määrästä\nValitaan hallituksen jäsenet erovuoroisten tilalle seuraavalle kaksivuotiskaudelle sekä kaksi (2) hallituksen varajäsentä seuraavaksi toimikaudeksi.\nValitaan vuodelle 2023 toiminnantarkastaja ja hänelle varahenkilö\nPäätetään mahdollisesta vuosittaisesta lahjoituksesta\nKokouksen päättäminen\n\nKokouksen päätteeksi vapaata keskustelua. \nOletko kiinnostunut tulemaan mukaan yhdistyksen toimintaan ja kehittämiseen? Olet lämpimästi tervetullut\, tarvitsemme uusia yhdistysaktiiveja. Ota yhteyttä puheenjohtaja@hmp.fi ja kerro itsestäsi sekä miten voisit yhdistyksen toiminnassa olla mukana.
URL:https://www.hmp.fi/tapahtuma/vuosikokous-2023/
LOCATION:Keskustakirjasto Oodi\, Töölönlahdenkatu 4\, Helsinki
CATEGORIES:Ilmoittautuminen vaaditaan,muut
ATTACH;FMTTYPE=image/png:https://www.hmp.fi/wp-content/uploads/2023/04/kokous.png
ORGANIZER;CN="HMP Tapahtumat":MAILTO:tapahtuma.hmp@gmail.com
END:VEVENT
END:VCALENDAR