BEGIN:VCALENDAR
VERSION:2.0
PRODID:-//Helsingin Seudun Monikkoperheet - ECPv6.15.12.1//NONSGML v1.0//EN
CALSCALE:GREGORIAN
METHOD:PUBLISH
X-ORIGINAL-URL:https://www.hmp.fi
X-WR-CALDESC:Tapahtumat Helsingin Seudun Monikkoperheet
REFRESH-INTERVAL;VALUE=DURATION:PT1H
X-Robots-Tag:noindex
X-PUBLISHED-TTL:PT1H
BEGIN:VTIMEZONE
TZID:Europe/Helsinki
BEGIN:DAYLIGHT
TZOFFSETFROM:+0200
TZOFFSETTO:+0300
TZNAME:EEST
DTSTART:20230326T010000
END:DAYLIGHT
BEGIN:STANDARD
TZOFFSETFROM:+0300
TZOFFSETTO:+0200
TZNAME:EET
DTSTART:20231029T010000
END:STANDARD
BEGIN:DAYLIGHT
TZOFFSETFROM:+0200
TZOFFSETTO:+0300
TZNAME:EEST
DTSTART:20240331T010000
END:DAYLIGHT
BEGIN:STANDARD
TZOFFSETFROM:+0300
TZOFFSETTO:+0200
TZNAME:EET
DTSTART:20241027T010000
END:STANDARD
BEGIN:DAYLIGHT
TZOFFSETFROM:+0200
TZOFFSETTO:+0300
TZNAME:EEST
DTSTART:20250330T010000
END:DAYLIGHT
BEGIN:STANDARD
TZOFFSETFROM:+0300
TZOFFSETTO:+0200
TZNAME:EET
DTSTART:20251026T010000
END:STANDARD
END:VTIMEZONE
BEGIN:VEVENT
DTSTART;TZID=Europe/Helsinki:20240821T170000
DTEND;TZID=Europe/Helsinki:20240821T190000
DTSTAMP:20260424T151616
CREATED:20240728T085320Z
LAST-MODIFIED:20240728T085320Z
UID:9410-1724259600-1724266800@www.hmp.fi
SUMMARY:Perhevalmennus asiantuntijailta: Monikkoraskaus ja -synnytys
DESCRIPTION:Perhevalmennuksen ensimmäisessä osuudessa erikoislääkäri kertoo monikkoraskaudesta lääke- ja tilastotieteellisestä sekä biologisesta näkökulmasta. Kätilö kertoo odotuksesta ja synnytyksestä\, siihen valmistautumisesta sekä sairaalassaolosta (erityisesti HUS / Naistenklinikka). \nTilaisuuteen voivat osallistua kaikki monikko-odottajat tulevasta synnytyssairaalasta riippumatta. Osallistuminen ei edellytä yhdistyksen jäsenyyttä. \nPerhevalmennus toteutetaan verkkotapahtumana Teams-ympäristössä ja  osallistuminen edellytää internet-yhteyttä ja voi käyttää selainta tai puhelimessa maksutonta appia.  Tapahtumaa ei tallenneta. Tilaisuus alkaa klo 17.00 Helsingin Seudun Monikkoperheet ry:n lyhellä alustuksella. \nPerhevalmennuksen toinen osuus Monikkoarki\, jossa on monikkovanhempia vertaistukipuhujina sekä mahdollisesti myös Imetyksen Tuki ry:n puhuja kertomassa Imetyksen Tuki ry:n edustaja kertoo imetyksestä yleisesti\, pidetään verkkotapahtumana tätä tapahtumaa seuraavilla viikoilla keskiviikkoisin 28.8. ja 4.9. klo 17-19. Näihin tapahtumiin on erilliset ilmoittautumislomakkeet. \nIlmoittautuminen tapahtumaan lomakkeella https://forms.gle/y97NKZZnUcEbwiZW9 \nSuosittelemme tutustumaan myös Suomen Monikkoperheet ry:n tuottamaan Hyvä alku monikkovanhemmuuteen -kurssiin https://www.hyvakysymys.fi/kurssi/hyva-alku-monikkovanhemmuuteen/ \nLisätietoja perhevalmennus@hmp.fi ja https://www.facebook.com/hmp.monikkoperhevalmennus
URL:https://www.hmp.fi/tapahtuma/perhevalmennus-asiantuntijailta-monikkoraskaus-ja-synnytys-210824/
LOCATION:Verkkotapahtuma
CATEGORIES:Ilmoittautuminen vaaditaan,monikkoperhevalmennus
ATTACH;FMTTYPE=image/jpeg:https://www.hmp.fi/wp-content/uploads/2015/08/HMP_kuvituskuva_ultra.jpg
ORGANIZER;CN="HMP Perhevalmennus":MAILTO:perhevalmennus@hmp.fi
END:VEVENT
BEGIN:VEVENT
DTSTART;TZID=Europe/Helsinki:20240828T170000
DTEND;TZID=Europe/Helsinki:20240828T190000
DTSTAMP:20260424T151616
CREATED:20240728T085319Z
LAST-MODIFIED:20240728T085319Z
UID:9411-1724864400-1724871600@www.hmp.fi
SUMMARY:Perhevalmennus: Monikkoarki 1
DESCRIPTION:Perhevalmennus järjestetään Teams-tapahtumana. Monikkoarki-osuus jaetaan kahdelle illalle ke 28.8. ja 4.9.  Kumpaankin iltaan ilmoittaudutaan erikseen. \nMonikkovanhemmat kertovat omien kokemustensa pohjalta mm. monikkojen odotuksesta\, synnytyksestä\, imetyksestä ja alkuajoista kotona. Lisäksi aiheina voi olla esim. isän rooli\, sisarusten huomioonottaminen\, kodin hankinnat ja järjestelyt sekä erilaiset käytännön vinkit. \nTilaisuuteen voivat osallistua kaikki monikko-odottajat tulevasta synnytyssairaalasta riippumatta. Osallistuminen ei edellytä yhdistyksen jäsenyyttä. Ennakkoilmoittautuminen tapahtumaan on tarpeen\, linkki Teams-tapahtumaan lähetetään vain ennakkoon ilmoittautuneille. \nImetyksen Tuki ry:n edustaja on toisessa vertaistuki-illassa kertomassa sekä monikkojen imetyksestä että imetykseen yleisesti liittyvistä asioista. Tarkennetaan myöhemmin kumpi valmennusilta tämä on. \nVertaistuki-iltoihin ilmoittaudutaan erikseen. Keskiviikon 28.8. vertaistuki-iltaan ilmoittaudutaan tällä lomakkeella https://forms.gle/5MboMA4DNjvfKoE66  ja 4.9. vertaistuki-iltaan tällä lomakkeella https://forms.gle/8Ni8RTDzTxxoQmvM7 \nKannattaa seurata myös yhdistyksen tiedotusta  https://www.facebook.com/helsinginseudunmonikkoperheet/  ja https://www.facebook.com/hmp.monikkoperhevalmennus/ \nLisätietoja tarvittaessa perhevalmennus@hmp.fi
URL:https://www.hmp.fi/tapahtuma/perhevalmennus-monikkoarki-1-280824/
LOCATION:Verkkotapahtuma
CATEGORIES:Ilmoittautuminen vaaditaan,monikkoperhevalmennus
ATTACH;FMTTYPE=image/jpeg:https://www.hmp.fi/wp-content/uploads/2023/01/bebe-g5a165728b_1280.jpg
ORGANIZER;CN="HMP Perhevalmennus":MAILTO:perhevalmennus@hmp.fi
END:VEVENT
BEGIN:VEVENT
DTSTART;TZID=Europe/Helsinki:20240831T100000
DTEND;TZID=Europe/Helsinki:20240831T120000
DTSTAMP:20260424T151616
CREATED:20240712T085714Z
LAST-MODIFIED:20240824T122057Z
UID:9404-1725098400-1725105600@www.hmp.fi
SUMMARY:HMP kirppis Myllypurossa
DESCRIPTION:Yhdistyksen kirpparilla la 31.8. voi myydä eri ikäisten lasten vaatteita\, leluja ja muuta käyttötavaraa sekä äitiysvaatteita yms. tarvikkeita. \nJokaiselle myyjälle on varattu myyntipöytä ja pöydän vieressä on tilaa omalle rekille. Myytävien vaatteiden ja tarvikkeiden on oltava kohtuullisen hyvässä kunnossa. Ovet avataan myyjille klo 9. Myyjien läsnäolo tarkistetaan klo 9-10 välillä. Ostajat pääsevät sisään klo 10 ja myynti loppuu klo 12. Maksutavaksi suositellaan MobilePayta tai käteistä pikkuostoksissa. \nMyyntipaikat on tarkoitettu ensisijaisesti Helsingin Seudun Monikkoperheet ry:n jäsenille ja myyntipaikkoja on n. 15. Kaikki myyjät osallistuvat loppusiivoukseen. Myyntipaikan hinta on 10 euroa. Myyntipaikkavaraukset Jäsenille-osion sähköisellä ilmoittautumislomakkeella. \nMyös muut kuin yhdistyksen jäsenet voivat varata myyntipaikan\, heille myyntipaikan hinta on 20 euroa. Kysy myyntipaikkaa sähköpostitse tapahtuma.hmp@gmail.com \nIlmoittautuminen on sitova eli ilmoittautunut sitoutuu maksamaan osallistumisensa\, vaikka ei pystyisikään osallistumaan eikä tilalle löydy toista osallistujaa HMP:n kautta. Tapahtumaan osallistuminen laskutetaan jäsenrekisterin kautta tapahtuman jälkeen 7 pv maksuajalla. \nKirpparin sijainti: Asukastila Orpaantupa\, osoite Myllypurontie 22. Asukastilan yhteydessä on kohtuullinen määrä ilmaisia pysäköintipaikkoja\, lisäksi aivan lähelle pääsee bussilla 92. Myllypuron metroasemalta on noin 1 km kävelymatka. \nMahdollisuutta järjestää HMP:n kirppiksiä myös muualla pääkaupunkiseudulla selvitetään. Huom! Jos mielessäsi on hyvä paikkaehdotus\, lähetä viestiä tapahtuma.hmp@gmail.com. \nLisätietoja (ei ilmoittautumisia) tapahtuma.hmp@gmail.com
URL:https://www.hmp.fi/tapahtuma/kirppismyllypuro/
LOCATION:Asukastila Orpaantupa\, Myllypurontie 22\, Helsinki\, 00920
CATEGORIES:Ilmoittautuminen vaaditaan,muut
ATTACH;FMTTYPE=image/jpeg:https://www.hmp.fi/wp-content/uploads/2024/07/clothes-3697374_1280.jpg
END:VEVENT
END:VCALENDAR