BEGIN:VCALENDAR
VERSION:2.0
PRODID:-//Helsingin Seudun Monikkoperheet - ECPv6.15.12.1//NONSGML v1.0//EN
CALSCALE:GREGORIAN
METHOD:PUBLISH
X-ORIGINAL-URL:https://www.hmp.fi
X-WR-CALDESC:Tapahtumat Helsingin Seudun Monikkoperheet
REFRESH-INTERVAL;VALUE=DURATION:PT1H
X-Robots-Tag:noindex
X-PUBLISHED-TTL:PT1H
BEGIN:VTIMEZONE
TZID:Europe/Helsinki
BEGIN:DAYLIGHT
TZOFFSETFROM:+0200
TZOFFSETTO:+0300
TZNAME:EEST
DTSTART:20230326T010000
END:DAYLIGHT
BEGIN:STANDARD
TZOFFSETFROM:+0300
TZOFFSETTO:+0200
TZNAME:EET
DTSTART:20231029T010000
END:STANDARD
BEGIN:DAYLIGHT
TZOFFSETFROM:+0200
TZOFFSETTO:+0300
TZNAME:EEST
DTSTART:20240331T010000
END:DAYLIGHT
BEGIN:STANDARD
TZOFFSETFROM:+0300
TZOFFSETTO:+0200
TZNAME:EET
DTSTART:20241027T010000
END:STANDARD
BEGIN:DAYLIGHT
TZOFFSETFROM:+0200
TZOFFSETTO:+0300
TZNAME:EEST
DTSTART:20250330T010000
END:DAYLIGHT
BEGIN:STANDARD
TZOFFSETFROM:+0300
TZOFFSETTO:+0200
TZNAME:EET
DTSTART:20251026T010000
END:STANDARD
END:VTIMEZONE
BEGIN:VEVENT
DTSTART;TZID=Europe/Helsinki:20240904T170000
DTEND;TZID=Europe/Helsinki:20240904T190000
DTSTAMP:20260424T131746
CREATED:20240728T085314Z
LAST-MODIFIED:20240728T085314Z
UID:9412-1725469200-1725476400@www.hmp.fi
SUMMARY:Perhevalmennus: Monikkoarki 2
DESCRIPTION:Perhevalmennus järjestetään Teams-tapahtumana. Monikkoarki-osuus jaetaan kahdelle illalle ke 28.8. ja 4.9.  Kumpaankin iltaan ilmoittaudutaan erikseen. \nMonikkovanhemmat kertovat omien kokemustensa pohjalta mm. monikkojen odotuksesta\, synnytyksestä\, imetyksestä ja alkuajoista kotona. Lisäksi aiheina voi olla esim. isän rooli\, sisarusten huomioonottaminen\, kodin hankinnat ja järjestelyt sekä erilaiset käytännön vinkit. \nTilaisuuteen voivat osallistua kaikki monikko-odottajat tulevasta synnytyssairaalasta riippumatta. Osallistuminen ei edellytä yhdistyksen jäsenyyttä. Ennakkoilmoittautuminen tapahtumaan on tarpeen\, linkki Teams-tapahtumaan lähetetään vain ennakkoon ilmoittautuneille. \nImetyksen Tuki ry:n edustaja on toisessa vertaistuki-illassa kertomassa sekä monikkojen imetyksestä että imetykseen yleisesti liittyvistä asioista. Tarkennetaan myöhemmin kumpi valmennusilta tämä on. \nVertaistuki-iltoihin ilmoittaudutaan erikseen. Keskiviikon 28.8. vertaistuki-iltaan ilmoittaudutaan tällä lomakkeella https://forms.gle/5MboMA4DNjvfKoE66  ja 4.9. vertaistuki-iltaan tällä lomakkeella https://forms.gle/8Ni8RTDzTxxoQmvM7 \nKannattaa seurata myös yhdistyksen tiedotusta  https://www.facebook.com/helsinginseudunmonikkoperheet/  ja https://www.facebook.com/hmp.monikkoperhevalmennus/ \nLisätietoja tarvittaessa perhevalmennus@hmp.fi
URL:https://www.hmp.fi/tapahtuma/perhevalmennus-monikkoarki-2-040924/
LOCATION:Verkkotapahtuma
CATEGORIES:Ilmoittautuminen vaaditaan,monikkoperhevalmennus
ATTACH;FMTTYPE=image/jpeg:https://www.hmp.fi/wp-content/uploads/2016/11/twins-vauvatapaaminen.jpg
END:VEVENT
BEGIN:VEVENT
DTSTART;TZID=Europe/Helsinki:20240908T100000
DTEND;TZID=Europe/Helsinki:20240908T130000
DTSTAMP:20260424T131746
CREATED:20240815T134920Z
LAST-MODIFIED:20240815T134930Z
UID:9423-1725789600-1725800400@www.hmp.fi
SUMMARY:Monikkoperheiden lasten olympialaiset 2024
DESCRIPTION:Tervetuloa perinteisiin lasten olympialaisiin Vantaan Hiekkaharjun yleisurheilukentälle! \nLajeina ovat pallonheitto\, pituushyppy ja juoksu. Monikkolapset ja heidän sisaruksensa sekä samassa taloudessa asuvat lapset ovat tervetulleita ja kaikki kilpailijat palkitaan mitalilla juoksukisan jälkeen. \nKilpailunumeroiden jako alkaa klo 9.30. Ilmoittautumisen yhteydessä jaetaan juoksusarjojen aikataulu\, mahdollisuuksien mukaan aikataulu on ennakkoon saatavilla. Juoksussa yhteiset sarjat tytöille ja pojille\, jako tehdään ikäsarjoittain alkaen 1-vuotiaista ja juoksujen aikataulu on nuorimmista vanhimpiin. \nKilpailut alkavat klo 10:00 kilpailijoille ja huoltojoukoille yhteisellä venyttelyllä. Pituushypyssä ja pallonheitossa voi käydä oman aikataulun mukaan. \nTapahtuma on maksuton ja toivotamme mukaan sekä yhdistyksen jäsenperheet että muut monikkoperheet. \nOmia eväitä voi ottaa mukaan\, paikalla on myös buffetti & hodarikärry. \nTervetuloa iloiseen ja hauskaan liikuntatapahtumaan koko perheen voimin! \nIlmoittautuminen 5.9. mennessä jäsenrekisterissä (yhdistyksen jäsenet) ja muut monikkoperheet tällä lomakkeella. \nEnnakkoilmoittautuminen on pakollinen kaikille osallistujille! \nLisätietoja tai apua ilmoittautumiseen saa sähköpostitse tapahtuma.hmp@gmail.com
URL:https://www.hmp.fi/tapahtuma/lasten-olympialaiset-2024/
LOCATION:Hiekkaharjun yleisurheilukenttä\, Urheilutie 15\, Vantaa\, 01370
CATEGORIES:Ilmoittautuminen vaaditaan,muut
ATTACH;FMTTYPE=image/jpeg:https://www.hmp.fi/wp-content/uploads/2018/08/olympialaiset-jono.jpg
ORGANIZER;CN="HMP Tapahtumat":MAILTO:tapahtuma.hmp@gmail.com
END:VEVENT
END:VCALENDAR