BEGIN:VCALENDAR
VERSION:2.0
PRODID:-//Helsingin Seudun Monikkoperheet - ECPv6.15.12.1//NONSGML v1.0//EN
CALSCALE:GREGORIAN
METHOD:PUBLISH
X-WR-CALNAME:Helsingin Seudun Monikkoperheet
X-ORIGINAL-URL:https://www.hmp.fi
X-WR-CALDESC:Tapahtumat Helsingin Seudun Monikkoperheet
REFRESH-INTERVAL;VALUE=DURATION:PT1H
X-Robots-Tag:noindex
X-PUBLISHED-TTL:PT1H
BEGIN:VTIMEZONE
TZID:Europe/Helsinki
BEGIN:DAYLIGHT
TZOFFSETFROM:+0200
TZOFFSETTO:+0300
TZNAME:EEST
DTSTART:20230326T010000
END:DAYLIGHT
BEGIN:STANDARD
TZOFFSETFROM:+0300
TZOFFSETTO:+0200
TZNAME:EET
DTSTART:20231029T010000
END:STANDARD
BEGIN:DAYLIGHT
TZOFFSETFROM:+0200
TZOFFSETTO:+0300
TZNAME:EEST
DTSTART:20240331T010000
END:DAYLIGHT
BEGIN:STANDARD
TZOFFSETFROM:+0300
TZOFFSETTO:+0200
TZNAME:EET
DTSTART:20241027T010000
END:STANDARD
BEGIN:DAYLIGHT
TZOFFSETFROM:+0200
TZOFFSETTO:+0300
TZNAME:EEST
DTSTART:20250330T010000
END:DAYLIGHT
BEGIN:STANDARD
TZOFFSETFROM:+0300
TZOFFSETTO:+0200
TZNAME:EET
DTSTART:20251026T010000
END:STANDARD
END:VTIMEZONE
BEGIN:VEVENT
DTSTART;TZID=Europe/Helsinki:20241026T090000
DTEND;TZID=Europe/Helsinki:20241026T101500
DTSTAMP:20260422T140046
CREATED:20240913T154659Z
LAST-MODIFIED:20240913T154659Z
UID:9439-1729933200-1729937700@www.hmp.fi
SUMMARY:Lasten matinea ja ponikilpailut - Helsinki International Horse Show
DESCRIPTION:Lauantaiaamun Lasten Matinea on perheen pienimpien ihana heppashow\, jossa myös vanhemmat viihtyvät. Tapahtuma on koko perheen vauhdikas show\, jossa areenan valtaavat ihanat ponit ja monen rotuiset hevoset. Shown lisäksi on ponikisa\, jossa poniratsukot pääsevät kilpailemaan upeissa kansainvälisissä puitteissa. \nSaamme iloksemme vapaalippuja tähän tapahtumaan la 26.10. klo 9-10.15. \nTapahtuma ja vapaaliput ovat  yhdistyksen jäsenperheille. Ennakkoilmoittautuminen on avoinna jäsenrekisterissä https://byte.flomembers.com/helsingin-seudun-monikkoperheet. \nLiput jaetaan jäähallin ulkopuolella ennen esityksen alkua. Tarkemmat tiedot lähetetään osallistujille ennen tapahtumaa. \nLisätietoja tapahtumasta www.helsinkihorseshow.fi
URL:https://www.hmp.fi/tapahtuma/hihs-lasten-matinea-2024/
LOCATION:Helsingin jäähalli\, Nordenskiöldinkatu 11-13\, Helsinki
CATEGORIES:Ilmoittautuminen vaaditaan,muut
ATTACH;FMTTYPE=image/jpeg:https://www.hmp.fi/wp-content/uploads/2022/06/Lasten-matinea-photo-Satu-Pirinen033.jpg
ORGANIZER;CN="HMP Tapahtumat":MAILTO:tapahtuma.hmp@gmail.com
END:VEVENT
BEGIN:VEVENT
DTSTART;TZID=Europe/Helsinki:20241030T170000
DTEND;TZID=Europe/Helsinki:20241030T190000
DTSTAMP:20260422T140046
CREATED:20241006T131556Z
LAST-MODIFIED:20241006T131556Z
UID:9448-1730307600-1730314800@www.hmp.fi
SUMMARY:Perhevalmennus asiantuntijailta: Monikkoraskaus ja -synnytys
DESCRIPTION:Perhevalmennuksen ensimmäisessä osuudessa erikoislääkäri kertoo monikkoraskaudesta lääke- ja tilastotieteellisestä sekä biologisesta näkökulmasta. Kätilö kertoo odotuksesta ja synnytyksestä\, siihen valmistautumisesta sekä sairaalassaolosta (erityisesti HUS / Naistenklinikka). \nTilaisuuteen voivat osallistua kaikki monikko-odottajat tulevasta synnytyssairaalasta riippumatta. Osallistuminen ei edellytä yhdistyksen jäsenyyttä. \nPerhevalmennus toteutetaan verkkotapahtumana Teams-ympäristössä ja  osallistuminen edellytää internet-yhteyttä ja voi käyttää selainta tai puhelimessa maksutonta appia.  Tapahtumaa ei tallenneta. Tilaisuus alkaa klo 17.00 Helsingin Seudun Monikkoperheet ry:n lyhellä alustuksella. \nPerhevalmennuksen toinen osuus Monikkoarki\, jossa on monikkovanhempia vertaistukipuhujina sekä mahdollisesti myös Imetyksen Tuki ry:n puhuja kertomassa Imetyksen Tuki ry:n edustaja kertoo imetyksestä yleisesti\, pidetään verkkotapahtumana tätä tapahtumaa seuraavilla viikoilla keskiviikkoisin 6.11. ja 13.11. klo 17-19. Näihin tapahtumiin on erilliset ilmoittautumislomakkeet. \nIlmoittautuminen tapahtumaan lomakkeella https://forms.gle/y97NKZZnUcEbwiZW9 \nSuosittelemme tutustumaan myös Suomen Monikkoperheet ry:n tuottamaan Hyvä alku monikkovanhemmuuteen -kurssiin https://www.hyvakysymys.fi/kurssi/hyva-alku-monikkovanhemmuuteen/ \nLisätietoja perhevalmennus@hmp.fi ja https://www.facebook.com/hmp.monikkoperhevalmennus
URL:https://www.hmp.fi/tapahtuma/perhevalmennus-asiantuntijailta-301024/
LOCATION:Verkkotapahtuma
CATEGORIES:Ilmoittautuminen vaaditaan,monikkoperhevalmennus
ATTACH;FMTTYPE=image/jpeg:https://www.hmp.fi/wp-content/uploads/2015/08/HMP_kuvituskuva_ultra.jpg
ORGANIZER;CN="HMP Perhevalmennus":MAILTO:perhevalmennus@hmp.fi
END:VEVENT
END:VCALENDAR