BEGIN:VCALENDAR
VERSION:2.0
PRODID:-//Helsingin Seudun Monikkoperheet - ECPv6.15.12.1//NONSGML v1.0//EN
CALSCALE:GREGORIAN
METHOD:PUBLISH
X-ORIGINAL-URL:https://www.hmp.fi
X-WR-CALDESC:Tapahtumat Helsingin Seudun Monikkoperheet
REFRESH-INTERVAL;VALUE=DURATION:PT1H
X-Robots-Tag:noindex
X-PUBLISHED-TTL:PT1H
BEGIN:VTIMEZONE
TZID:Europe/Helsinki
BEGIN:DAYLIGHT
TZOFFSETFROM:+0200
TZOFFSETTO:+0300
TZNAME:EEST
DTSTART:20240331T010000
END:DAYLIGHT
BEGIN:STANDARD
TZOFFSETFROM:+0300
TZOFFSETTO:+0200
TZNAME:EET
DTSTART:20241027T010000
END:STANDARD
BEGIN:DAYLIGHT
TZOFFSETFROM:+0200
TZOFFSETTO:+0300
TZNAME:EEST
DTSTART:20250330T010000
END:DAYLIGHT
BEGIN:STANDARD
TZOFFSETFROM:+0300
TZOFFSETTO:+0200
TZNAME:EET
DTSTART:20251026T010000
END:STANDARD
BEGIN:DAYLIGHT
TZOFFSETFROM:+0200
TZOFFSETTO:+0300
TZNAME:EEST
DTSTART:20260329T010000
END:DAYLIGHT
BEGIN:STANDARD
TZOFFSETFROM:+0300
TZOFFSETTO:+0200
TZNAME:EET
DTSTART:20261025T010000
END:STANDARD
END:VTIMEZONE
BEGIN:VEVENT
DTSTART;TZID=Europe/Helsinki:20250122T170000
DTEND;TZID=Europe/Helsinki:20250122T190000
DTSTAMP:20260422T075932
CREATED:20250107T195951Z
LAST-MODIFIED:20250107T195951Z
UID:9487-1737565200-1737572400@www.hmp.fi
SUMMARY:Perhevalmennus asiantuntijailta: Monikkoraskaus ja -synnytys
DESCRIPTION:Perhevalmennuksen ensimmäisessä osuudessa erikoislääkäri kertoo monikkoraskaudesta lääke- ja tilastotieteellisestä sekä biologisesta näkökulmasta. Kätilö kertoo odotuksesta ja synnytyksestä\, siihen valmistautumisesta sekä sairaalassaolosta (erityisesti HUS / Naistenklinikka). \nTilaisuuteen voivat osallistua kaikki monikko-odottajat tulevasta synnytyssairaalasta riippumatta. Osallistuminen ei edellytä yhdistyksen jäsenyyttä. \nPerhevalmennus toteutetaan verkkotapahtumana Teams-ympäristössä ja  osallistuminen edellytää internet-yhteyttä ja voi käyttää selainta tai puhelimessa maksutonta appia.  Tapahtumaa ei tallenneta. Tilaisuus alkaa klo 17.00 Helsingin Seudun Monikkoperheet ry:n lyhellä alustuksella. \nPerhevalmennuksen toinen osuus Monikkoarki\, jossa on monikkovanhempia vertaistukipuhujina sekä mahdollisesti myös Imetyksen Tuki ry:n puhuja kertomassa Imetyksen Tuki ry:n edustaja kertoo imetyksestä yleisesti\, pidetään verkkotapahtumana tätä tapahtumaa seuraavilla viikoilla keskiviikkoisin 29.1. ja 5.2. klo 17-19. Näihin tapahtumiin on erilliset ilmoittautumislomakkeet. \nIlmoittautuminen tapahtumaan lomakkeella https://forms.gle/y97NKZZnUcEbwiZW9 \nSuosittelemme tutustumaan myös Suomen Monikkoperheet ry:n tuottamaan Hyvä alku monikkovanhemmuuteen -kurssiin https://www.hyvakysymys.fi/kurssi/hyva-alku-monikkovanhemmuuteen/ \nLisätietoja perhevalmennus@hmp.fi ja https://www.facebook.com/hmp.monikkoperhevalmennus
URL:https://www.hmp.fi/tapahtuma/perhevalmennus-asiantuntijailta-220125/
LOCATION:Verkkotapahtuma
CATEGORIES:Ilmoittautuminen vaaditaan,monikkoperhevalmennus
ATTACH;FMTTYPE=image/jpeg:https://www.hmp.fi/wp-content/uploads/2015/08/HMP_kuvituskuva_ultra.jpg
ORGANIZER;CN="HMP Perhevalmennus":MAILTO:perhevalmennus@hmp.fi
END:VEVENT
BEGIN:VEVENT
DTSTART;TZID=Europe/Helsinki:20250129T170000
DTEND;TZID=Europe/Helsinki:20250129T190000
DTSTAMP:20260422T075932
CREATED:20250107T200408Z
LAST-MODIFIED:20250120T194423Z
UID:9489-1738170000-1738177200@www.hmp.fi
SUMMARY:Perhevalmennus: Monikkoarki 1
DESCRIPTION:Perhevalmennus järjestetään Teams-tapahtumana. Monikkoarki-osuus jaetaan kahdelle illalle ke 29.1. ja 5.2.  Kumpaankin iltaan ilmoittaudutaan erikseen. \nMonikkovanhemmat kertovat omien kokemustensa pohjalta mm. monikkojen odotuksesta\, synnytyksestä\, imetyksestä ja alkuajoista kotona. Lisäksi aiheina voi olla esim. isän rooli\, sisarusten huomioonottaminen\, kodin hankinnat ja järjestelyt sekä erilaiset käytännön vinkit. \nTilaisuuteen voivat osallistua kaikki monikko-odottajat tulevasta synnytyssairaalasta riippumatta. Osallistuminen ei edellytä yhdistyksen jäsenyyttä. Ennakkoilmoittautuminen tapahtumaan on tarpeen\, linkki Teams-tapahtumaan lähetetään vain ennakkoon ilmoittautuneille. \nImetyksen Tuki ry:n edustaja on 5.2. vertaistuki-illassa kertomassa sekä monikkojen imetyksestä että imetykseen yleisesti liittyvistä asioista. Tarkennetaan myöhemmin kumpi valmennusilta tämä on. \nVertaistuki-iltoihin ilmoittaudutaan erikseen. Keskiviikon 29.1. vertaistuki-iltaan ilmoittaudutaan tällä lomakkeella https://forms.gle/5MboMA4DNjvfKoE66  ja 5.2. vertaistuki-iltaan tällä lomakkeella https://forms.gle/8Ni8RTDzTxxoQmvM7 \nKannattaa seurata myös yhdistyksen tiedotusta  https://www.facebook.com/helsinginseudunmonikkoperheet/  ja https://www.facebook.com/hmp.monikkoperhevalmennus/ \nLisätietoja tarvittaessa perhevalmennus@hmp.fi
URL:https://www.hmp.fi/tapahtuma/perhevalmennus-monikkoarki-290125/
LOCATION:Verkkotapahtuma
CATEGORIES:Ilmoittautuminen vaaditaan,monikkoperhevalmennus
ATTACH;FMTTYPE=image/jpeg:https://www.hmp.fi/wp-content/uploads/2023/01/bebe-g5a165728b_1280.jpg
ORGANIZER;CN="HMP Perhevalmennus":MAILTO:perhevalmennus@hmp.fi
END:VEVENT
END:VCALENDAR