BEGIN:VCALENDAR
VERSION:2.0
PRODID:-//Helsingin Seudun Monikkoperheet - ECPv6.15.12.1//NONSGML v1.0//EN
CALSCALE:GREGORIAN
METHOD:PUBLISH
X-ORIGINAL-URL:https://www.hmp.fi
X-WR-CALDESC:Tapahtumat Helsingin Seudun Monikkoperheet
REFRESH-INTERVAL;VALUE=DURATION:PT1H
X-Robots-Tag:noindex
X-PUBLISHED-TTL:PT1H
BEGIN:VTIMEZONE
TZID:Europe/Helsinki
BEGIN:DAYLIGHT
TZOFFSETFROM:+0200
TZOFFSETTO:+0300
TZNAME:EEST
DTSTART:20240331T010000
END:DAYLIGHT
BEGIN:STANDARD
TZOFFSETFROM:+0300
TZOFFSETTO:+0200
TZNAME:EET
DTSTART:20241027T010000
END:STANDARD
BEGIN:DAYLIGHT
TZOFFSETFROM:+0200
TZOFFSETTO:+0300
TZNAME:EEST
DTSTART:20250330T010000
END:DAYLIGHT
BEGIN:STANDARD
TZOFFSETFROM:+0300
TZOFFSETTO:+0200
TZNAME:EET
DTSTART:20251026T010000
END:STANDARD
BEGIN:DAYLIGHT
TZOFFSETFROM:+0200
TZOFFSETTO:+0300
TZNAME:EEST
DTSTART:20260329T010000
END:DAYLIGHT
BEGIN:STANDARD
TZOFFSETFROM:+0300
TZOFFSETTO:+0200
TZNAME:EET
DTSTART:20261025T010000
END:STANDARD
END:VTIMEZONE
BEGIN:VEVENT
DTSTART;TZID=Europe/Helsinki:20250409T170000
DTEND;TZID=Europe/Helsinki:20250409T190000
DTSTAMP:20260422T023750
CREATED:20250312T201321Z
LAST-MODIFIED:20250312T201715Z
UID:9535-1744218000-1744225200@www.hmp.fi
SUMMARY:Perhevalmennus asiantuntijailta: Monikkoraskaus ja -synnytys
DESCRIPTION:Perhevalmennuksen ensimmäisessä osuudessa erikoislääkäri kertoo monikkoraskaudesta lääke- ja tilastotieteellisestä sekä biologisesta näkökulmasta. Kätilö kertoo odotuksesta ja synnytyksestä\, siihen valmistautumisesta sekä sairaalassaolosta (erityisesti HUS / Naistenklinikka). \nTilaisuuteen voivat osallistua kaikki monikko-odottajat tulevasta synnytyssairaalasta riippumatta. Osallistuminen ei edellytä yhdistyksen jäsenyyttä. \nPerhevalmennus toteutetaan verkkotapahtumana Teams-ympäristössä ja  osallistuminen edellytää internet-yhteyttä ja voi käyttää selainta tai puhelimessa maksutonta appia.  Tapahtumaa ei tallenneta. Tilaisuus alkaa klo 17.00 Helsingin Seudun Monikkoperheet ry:n lyhellä alustuksella. \nPerhevalmennuksen toinen osuus Monikkoarki\, jossa on monikkovanhempia vertaistukipuhujina sekä mahdollisesti myös Imetyksen Tuki ry:n puhuja kertomassa Imetyksen Tuki ry:n edustaja kertoo imetyksestä yleisesti\, pidetään verkkotapahtumana tämän tapahtuman jälkeen. Näihin vertaistuki-iltoihin on erilliset ilmoittautumislomakkeet. Keskiviikon 23.4. vertaistuki-iltaan ilmoittaudutaan tällä lomakkeella https://forms.gle/5MboMA4DNjvfKoE66  ja 7.5. vertaistuki-iltaan tällä lomakkeella https://forms.gle/8Ni8RTDzTxxoQmvM7 \nIlmoittautuminen perhevalmennuksen asiantuntija-iltaan lomakkeella https://forms.gle/y97NKZZnUcEbwiZW9 \nSuosittelemme tutustumaan myös Suomen Monikkoperheet ry:n tuottamaan Hyvä alku monikkovanhemmuuteen -kurssiin https://www.hyvakysymys.fi/kurssi/hyva-alku-monikkovanhemmuuteen/ \nLisätietoja perhevalmennus@hmp.fi ja https://www.facebook.com/hmp.monikkoperhevalmennus
URL:https://www.hmp.fi/tapahtuma/perhevalmennus-asiantuntijailta-090425/
LOCATION:Verkkotapahtuma
CATEGORIES:Ilmoittautuminen vaaditaan,monikkoperhevalmennus
ATTACH;FMTTYPE=image/jpeg:https://www.hmp.fi/wp-content/uploads/2015/08/HMP_kuvituskuva_ultra.jpg
ORGANIZER;CN="HMP Perhevalmennus":MAILTO:perhevalmennus@hmp.fi
END:VEVENT
BEGIN:VEVENT
DTSTART;TZID=Europe/Helsinki:20250414T173000
DTEND;TZID=Europe/Helsinki:20250414T193000
DTSTAMP:20260422T023750
CREATED:20250316T123928Z
LAST-MODIFIED:20250329T070905Z
UID:9544-1744651800-1744659000@www.hmp.fi
SUMMARY:Työelämän ABC -workshop
DESCRIPTION:Mietitkö uutta suuntaa työelämässä tai oletko palaamassa työelämään vanhempainvapaalta? Tai kaipaatko uutta potkua urallesi muuten vaan ja työnhaun kiemurat ihmetyttävät? \nTule maanantaina 14.4. klo 17.30-19.30 (uusi ajankohta!) Helsingin Kamppiin tai etänä Teamsiin saamaan vastauksia ja vinkkejä  mieltäsi vaivaaviin kysymyksiin rekrytoinnin ja uravalmennuksen ammattilaisen kanssa sparraamalla. \nAnnukka Tervo on toiminut lähes 17 vuotta rekrytointien\, suorahaun ja soveltuvuusarviointien maailmassa\, ja hän on lupautunut jakamaan jäsenistöllemme ”behind the scenes” tietoa työnhaussa menestymisen tueksi sekä ylipäätään vinkkejä siihen kuinka olla paremmin ohjaksissa oman uran suunnittelussa! \nAnnukka on vetänyt yhdistykselle useita vastaavia tapahtumia vuosien varrella ja osallistujat ovat olleet todella tyytyväisiä sen antiin ja saamaansa apuun. \nTilaisuus on maksuton  ja vain yhdistyksen jäsenille. Tapahtumapaikan tarkempi osoite on nähtävissä jäsenrekisterissä ilmoittautumisen yhteydessä. \nIlmoittautuminen on avoinna jäsenrekisterissä 16.3. – 13.4.2025
URL:https://www.hmp.fi/tapahtuma/tyoelaman-abc-2025/
CATEGORIES:Ilmoittautuminen vaaditaan,muut
ATTACH;FMTTYPE=image/jpeg:https://www.hmp.fi/wp-content/uploads/2020/09/tyonhaun-abc.jpg
END:VEVENT
BEGIN:VEVENT
DTSTART;TZID=Europe/Helsinki:20250423T170000
DTEND;TZID=Europe/Helsinki:20250423T190000
DTSTAMP:20260422T023750
CREATED:20250312T201848Z
LAST-MODIFIED:20250312T201848Z
UID:9537-1745427600-1745434800@www.hmp.fi
SUMMARY:Perhevalmennus: Monikkoarki 1
DESCRIPTION:Perhevalmennus järjestetään Teams-tapahtumana. Monikkoarki-osuus jaetaan kahdelle illalle ke 23.4. ja 7.5.  Kumpaankin iltaan ilmoittaudutaan erikseen. \nMonikkovanhemmat kertovat omien kokemustensa pohjalta mm. monikkojen odotuksesta\, synnytyksestä\, imetyksestä ja alkuajoista kotona. Lisäksi aiheina voi olla esim. isän rooli\, sisarusten huomioonottaminen\, kodin hankinnat ja järjestelyt sekä erilaiset käytännön vinkit. \nTilaisuuteen voivat osallistua kaikki monikko-odottajat tulevasta synnytyssairaalasta riippumatta. Osallistuminen ei edellytä yhdistyksen jäsenyyttä. Ennakkoilmoittautuminen tapahtumaan on tarpeen\, linkki Teams-tapahtumaan lähetetään vain ennakkoon ilmoittautuneille. \nImetyksen Tuki ry:n edustaja on toisessa vertaistuki-illassa kertomassa sekä monikkojen imetyksestä että imetykseen yleisesti liittyvistä asioista. Tarkennetaan myöhemmin kumpi valmennusilta tämä on. \nVertaistuki-iltoihin ilmoittaudutaan erikseen. Keskiviikon 23.4. vertaistuki-iltaan ilmoittaudutaan tällä lomakkeella https://forms.gle/5MboMA4DNjvfKoE66  ja 7.5. vertaistuki-iltaan tällä lomakkeella https://forms.gle/8Ni8RTDzTxxoQmvM7 \nKannattaa seurata myös yhdistyksen tiedotusta  https://www.facebook.com/helsinginseudunmonikkoperheet/  ja https://www.facebook.com/hmp.monikkoperhevalmennus/ \nLisätietoja tarvittaessa perhevalmennus@hmp.fi
URL:https://www.hmp.fi/tapahtuma/perhevalmennus-monikkoarki-230425/
LOCATION:Verkkotapahtuma
CATEGORIES:Ilmoittautuminen vaaditaan,monikkoperhevalmennus
ATTACH;FMTTYPE=image/jpeg:https://www.hmp.fi/wp-content/uploads/2023/01/bebe-g5a165728b_1280.jpg
ORGANIZER;CN="HMP Perhevalmennus":MAILTO:perhevalmennus@hmp.fi
END:VEVENT
BEGIN:VEVENT
DTSTART;TZID=Europe/Helsinki:20250428T180000
DTEND;TZID=Europe/Helsinki:20250428T193000
DTSTAMP:20260422T023750
CREATED:20250415T184354Z
LAST-MODIFIED:20250415T184354Z
UID:9556-1745863200-1745868600@www.hmp.fi
SUMMARY:Yhdistyksen vuosikokous
DESCRIPTION:Helsingin Seudun Monikkoperheet ry:n sääntömääräinen vuosikokous \nPaikka: Helsingin keskustakirjasto Oodi\, ryhmätyötila 6 sekä Teams-verkkotapahtuma \nAika: maanantai 28.4. klo 18:00 – 19:30 \nOsallistuminen vuosikokoukseen edellyttää voimassa olevaa jäsenyyttä\, eli vuoden 2025 jäsenmaksu on maksettu. Kokoukseen on ilmoittauduttava etukäteen ja siihen on mahdollista osallistua myös etänä. Kaikilta osallistujilta toivotaan ennakkoilmoittautumista\, jotta jäsenyys voidaan tarkistaa ennen kokousta ja lähettää sähköpostitse linkki kokouksen verkkotapahtumaan sekä varautua siihen\, että varattu tila on riittävä. Ilmoittautuminen kokoukseen tapahtuu jäsenrekisterissä. \nAsialista: \n\nKokouksen avaus\nValitaan kokouksen puheenjohtaja\, sihteeri\, kaksi (2) pöytäkirjantarkastajaa ja kaksi (2) ääntenlaskijaa \nTodetaan kokouksen laillisuus ja päätösvaltaisuus\nHyväksytään kokouksen työjärjestys\nEsitellään vuoden 2024 toimintakertomus\, tilinpäätös ja toiminnantarkastajan lausunto\nPäätetään vuoden 2024 tilinpäätöksen vahvistamisesta ja vastuuvapauden myöntämisestä hallitukselle ja muille tilivelvollisille \nVahvistetaan vuoden 2025 toimintasuunnitelma ja tulo- ja menoarvio\nVahvistetaan vuoden 2026 liittymis- ja jäsenmaksu\nValitaan hallituksen puheenjohtaja seuraavaksi toimikaudeksi\nPäätetään hallituksen varsinaisten jäsenten määrästä\nValitaan hallituksen jäsenet erovuoroisten tilalle seuraavalle kaksivuotiskaudelle sekä kaksi (2) hallituksen varajäsentä seuraavaksi toimikaudeksi.\nValitaan vuodelle 2025 toiminnantarkastaja ja hänelle varahenkilö\nPäätetään mahdollisesta vuosittaisesta lahjoituksesta\nKokouksen päättäminen\n\nKokouksen päätteeksi vapaata keskustelua. \nOletko kiinnostunut tulemaan mukaan yhdistyksen toimintaan ja kehittämiseen? Olet lämpimästi tervetullut\, tarvitsemme uusia yhdistysaktiiveja. Ota yhteyttä puheenjohtaja@hmp.fi ja kerro itsestäsi sekä miten voisit yhdistyksen toiminnassa olla mukana.
URL:https://www.hmp.fi/tapahtuma/yhdistyksen-vuosikokous-2025/
LOCATION:Keskustakirjasto Oodi\, Töölönlahdenkatu 4\, Helsinki
CATEGORIES:Ilmoittautuminen vaaditaan,muut
ORGANIZER;CN="HMP Tapahtumat":MAILTO:tapahtuma.hmp@gmail.com
END:VEVENT
END:VCALENDAR