BEGIN:VCALENDAR
VERSION:2.0
PRODID:-//Helsingin Seudun Monikkoperheet - ECPv6.15.12.1//NONSGML v1.0//EN
CALSCALE:GREGORIAN
METHOD:PUBLISH
X-ORIGINAL-URL:https://www.hmp.fi
X-WR-CALDESC:Tapahtumat Helsingin Seudun Monikkoperheet
REFRESH-INTERVAL;VALUE=DURATION:PT1H
X-Robots-Tag:noindex
X-PUBLISHED-TTL:PT1H
BEGIN:VTIMEZONE
TZID:Europe/Helsinki
BEGIN:DAYLIGHT
TZOFFSETFROM:+0200
TZOFFSETTO:+0300
TZNAME:EEST
DTSTART:20240331T010000
END:DAYLIGHT
BEGIN:STANDARD
TZOFFSETFROM:+0300
TZOFFSETTO:+0200
TZNAME:EET
DTSTART:20241027T010000
END:STANDARD
BEGIN:DAYLIGHT
TZOFFSETFROM:+0200
TZOFFSETTO:+0300
TZNAME:EEST
DTSTART:20250330T010000
END:DAYLIGHT
BEGIN:STANDARD
TZOFFSETFROM:+0300
TZOFFSETTO:+0200
TZNAME:EET
DTSTART:20251026T010000
END:STANDARD
BEGIN:DAYLIGHT
TZOFFSETFROM:+0200
TZOFFSETTO:+0300
TZNAME:EEST
DTSTART:20260329T010000
END:DAYLIGHT
BEGIN:STANDARD
TZOFFSETFROM:+0300
TZOFFSETTO:+0200
TZNAME:EET
DTSTART:20261025T010000
END:STANDARD
END:VTIMEZONE
BEGIN:VEVENT
DTSTART;TZID=Europe/Helsinki:20250507T170000
DTEND;TZID=Europe/Helsinki:20250507T190000
DTSTAMP:20260422T005253
CREATED:20250312T202055Z
LAST-MODIFIED:20250312T202055Z
UID:9541-1746637200-1746644400@www.hmp.fi
SUMMARY:Perhevalmennus: Monikkoarki 2
DESCRIPTION:Perhevalmennus järjestetään Teams-tapahtumana. Monikkoarki-osuus jaetaan kahdelle illalle ke 23.4. ja 7.5.  Kumpaankin iltaan ilmoittaudutaan erikseen. \nMonikkovanhemmat kertovat omien kokemustensa pohjalta mm. monikkojen odotuksesta\, synnytyksestä\, imetyksestä ja alkuajoista kotona. Lisäksi aiheina voi olla esim. isän rooli\, sisarusten huomioonottaminen\, kodin hankinnat ja järjestelyt sekä erilaiset käytännön vinkit. \nTilaisuuteen voivat osallistua kaikki monikko-odottajat tulevasta synnytyssairaalasta riippumatta. Osallistuminen ei edellytä yhdistyksen jäsenyyttä. Ennakkoilmoittautuminen tapahtumaan on tarpeen\, linkki Teams-tapahtumaan lähetetään vain ennakkoon ilmoittautuneille. \nImetyksen Tuki ry:n edustaja on toisessa vertaistuki-illassa kertomassa sekä monikkojen imetyksestä että imetykseen yleisesti liittyvistä asioista. Tarkennetaan myöhemmin kumpi valmennusilta tämä on. \nVertaistuki-iltoihin ilmoittaudutaan erikseen. Keskiviikon 23.4. vertaistuki-iltaan ilmoittaudutaan tällä lomakkeella https://forms.gle/5MboMA4DNjvfKoE66  ja 7.5. vertaistuki-iltaan tällä lomakkeella https://forms.gle/8Ni8RTDzTxxoQmvM7 \nKannattaa seurata myös yhdistyksen tiedotusta  https://www.facebook.com/helsinginseudunmonikkoperheet/  ja https://www.facebook.com/hmp.monikkoperhevalmennus/ \nLisätietoja tarvittaessa perhevalmennus@hmp.fi
URL:https://www.hmp.fi/tapahtuma/perhevalmennus-monikkoarki-070525/
LOCATION:Verkkotapahtuma
CATEGORIES:Ilmoittautuminen vaaditaan,monikkoperhevalmennus
ATTACH;FMTTYPE=image/jpeg:https://www.hmp.fi/wp-content/uploads/2019/09/twins-sleeping.jpg
ORGANIZER;CN="HMP Perhevalmennus":MAILTO:perhevalmennus@hmp.fi
END:VEVENT
BEGIN:VEVENT
DTSTART;TZID=Europe/Helsinki:20250510T120000
DTEND;TZID=Europe/Helsinki:20250510T150000
DTSTAMP:20260422T005253
CREATED:20250420T143749Z
LAST-MODIFIED:20250506T191338Z
UID:9561-1746878400-1746889200@www.hmp.fi
SUMMARY:Ensiapukurssi vanhemmille ja lasten kanssa toimiville
DESCRIPTION:Tapahtuma on peruttu vähäisen ilmoittautujamäärän vuoksi. Katsotaan syksylle uutta ajankohtaa. \nEnsiapukurssi on tarkoitettu monikkovanhemmille ja jäsenperheen lasten kanssa toimiville läheisille. Kurssilla käydään läpi teoriaa sekä toiminnallisia harjoituksia. Kurssilaiset saavat todistuksen joka on voimassa 3 vuotta suorituspäivästä. \nEnsiapukurssin sisältö: \n\nTajuttoman lapsen ensiapu\nElottoman lapsen elvytys (Lapsen ja vauvan elvytys)\nToiminta tukehtumistilanteessa\nLasten tyypillisiä tapaturmia ja niiden ensiapua\n\nPään ja suun alueen vammat\nNyrjähdykset ja murtumat\nEläinten puremat ja hyönteisten pistot\nSuuret verenvuodot\, verenvuotosokki ja pienten haavojen ensiapu\n\n\nLasten tyypillisiä sairaskohtauksia ja niiden ensiapua\n\nKouristelu\nVakava allerginen reaktio\, anafylaksia\n\n\n\nKurssin hinta on 25 EUR /hlö\, joka laskutetaan yhdistyksen jäseneltä kurssin jälkeen. Voit ilmoittaa tapahtumaan jäsenen sähköpostiosoitteella myös toisen henkilön hänen omalla nimellään. \nKurssi järjestetään Hoitajasi Oy:n toimistolla\, Keran hallit\, Karamalmintie 2 A\, Espoo. Osallistujille lähetetään tarkemmat saapumisohjeet vielä lähempänä (alueella rakennetaan). Paikalle pääsee autolla\, paikallisjunilla (Keran asema) tai busseilla.
URL:https://www.hmp.fi/tapahtuma/ensiapukurssi-0525/
LOCATION:Hoitajasi Oy\, Karamalmintie 2 A\, Espoo
CATEGORIES:Ilmoittautuminen vaaditaan,muut
ATTACH;FMTTYPE=image/jpeg:https://www.hmp.fi/wp-content/uploads/2025/04/first-aid-kit-62643_640.jpg
ORGANIZER;CN="HMP Tapahtumat":MAILTO:tapahtuma.hmp@gmail.com
END:VEVENT
BEGIN:VEVENT
DTSTART;TZID=Europe/Helsinki:20250524T140000
DTEND;TZID=Europe/Helsinki:20250524T150000
DTSTAMP:20260422T005253
CREATED:20250216T123601Z
LAST-MODIFIED:20250409T145003Z
UID:9512-1748095200-1748098800@www.hmp.fi
SUMMARY:Maatilan lapset -opastus Talomuseo Glimsissä
DESCRIPTION:Tervetuloa mukaan kestoltaan noin tunnin mittaiselle Maatilan lapset -opastukselle Talomuseo Glimsiin! \nToiminnallisella opastuksella kierretään Glimsin museoalueella tutustumassa entisajan maalaislasten töihin ja leikkeihin. Kierros sisältää sekä opastusta että itse tekemistä. Opastuksella ollaan paljon ulkona eli säänmukainen varustus on tärkeä. \nYhdistys tarjoaa opastuksen\, osallistujat huolehtivat itse pääsymaksuista. Alle 18-v. ja Museokortilla on Talomuseo Glimsiin vapaa pääsy\, aikuisten lippu 6 €\, alennusryhmät 3 €. Ilmoittautuminen kierrokselle on nyt avoinna jäsenrekisterin kautta. \nLisätietoa Talomuseo Glimsistä: https://www.espoo.fi/fi/talomuseo-glims \nTervetuloa mukaan! \n 
URL:https://www.hmp.fi/tapahtuma/talomuseo-glims2025/
LOCATION:Talomuseo Glims\, Glimsintie 1\, Espoo\, 02740
CATEGORIES:Ilmoittautuminen vaaditaan,muut
ATTACH;FMTTYPE=image/jpeg:https://www.hmp.fi/wp-content/uploads/2025/02/gardening-4652599_1280.jpg
ORGANIZER;CN="HMP Tapahtumat":MAILTO:tapahtuma.hmp@gmail.com
END:VEVENT
BEGIN:VEVENT
DTSTART;TZID=Europe/Helsinki:20250529T100000
DTEND;TZID=Europe/Helsinki:20250529T130000
DTSTAMP:20260422T005253
CREATED:20250316T134018Z
LAST-MODIFIED:20250526T193837Z
UID:9547-1748512800-1748523600@www.hmp.fi
SUMMARY:Keväinen puistopäivä
DESCRIPTION:Helsingin Seudun Monikkoperheet ry järjestää iloisen koko perheen kevättapahtuman helatorstaina 29.5.2025 klo 10–13. \nTervetuloa viettämään keväistä päivää yhdessä muiden monikkoperheiden kanssa leikkipuisto Oravaan Herttoniemeen. \nTänä vuonna mukana menossa on Kiertävä Farmi eläimineen! \nTapahtumassa on mahdollista teettää lapsille tai miksei aikuisillekin kasvomaalauksia pientä maksua vastaan. \nKahvia ja herkkuja myy Herttoniemenrannan ala-asteen 3A-luokka. \nSiivotaan Yhdessä -yrityksen perustaja\, monikkoäiti Riikka\, esittelee kemikaalitonta siivousta Enjon siivousliinoilla ja esittelee yrityksen palveluja. Tarjolla on myös yleistä tietoa siivouksesta ja vinkkejä arkea helpottamaan. \nTapahtuma on avoin kaikille! \nToivomme tulijoilta ennakkoilmoittautumista\, jotta voimme varautua osallistujamäärään! \nNähdäänhän sankoin ja iloisin joukoin leikkipuisto Oravassa!
URL:https://www.hmp.fi/tapahtuma/puistopaiva-2025/
LOCATION:Leikkipuisto Orava\, Karhutie 11\, Helsinki\, 00180
CATEGORIES:muut
ATTACH;FMTTYPE=image/png:https://www.hmp.fi/wp-content/uploads/2025/03/kf-logo-600px.png
ORGANIZER;CN="HMP Tapahtumat":MAILTO:tapahtuma.hmp@gmail.com
END:VEVENT
END:VCALENDAR