BEGIN:VCALENDAR
VERSION:2.0
PRODID:-//Helsingin Seudun Monikkoperheet - ECPv6.15.12.1//NONSGML v1.0//EN
CALSCALE:GREGORIAN
METHOD:PUBLISH
X-ORIGINAL-URL:https://www.hmp.fi
X-WR-CALDESC:Tapahtumat Helsingin Seudun Monikkoperheet
REFRESH-INTERVAL;VALUE=DURATION:PT1H
X-Robots-Tag:noindex
X-PUBLISHED-TTL:PT1H
BEGIN:VTIMEZONE
TZID:Europe/Helsinki
BEGIN:DAYLIGHT
TZOFFSETFROM:+0200
TZOFFSETTO:+0300
TZNAME:EEST
DTSTART:20240331T010000
END:DAYLIGHT
BEGIN:STANDARD
TZOFFSETFROM:+0300
TZOFFSETTO:+0200
TZNAME:EET
DTSTART:20241027T010000
END:STANDARD
BEGIN:DAYLIGHT
TZOFFSETFROM:+0200
TZOFFSETTO:+0300
TZNAME:EEST
DTSTART:20250330T010000
END:DAYLIGHT
BEGIN:STANDARD
TZOFFSETFROM:+0300
TZOFFSETTO:+0200
TZNAME:EET
DTSTART:20251026T010000
END:STANDARD
BEGIN:DAYLIGHT
TZOFFSETFROM:+0200
TZOFFSETTO:+0300
TZNAME:EEST
DTSTART:20260329T010000
END:DAYLIGHT
BEGIN:STANDARD
TZOFFSETFROM:+0300
TZOFFSETTO:+0200
TZNAME:EET
DTSTART:20261025T010000
END:STANDARD
END:VTIMEZONE
BEGIN:VEVENT
DTSTART;TZID=Europe/Helsinki:20251220T151500
DTEND;TZID=Europe/Helsinki:20251220T173000
DTSTAMP:20260421T124638
CREATED:20251117T172235Z
LAST-MODIFIED:20251119T195918Z
UID:9608-1766243700-1766251800@www.hmp.fi
SUMMARY:Pikkujoulut 2025
DESCRIPTION:Koko perheen lämminhenkiset pikkujoulut lauantaina 20.12.2025 Puistokulmassa\, Vantaan Hiekkaharjussa. Ohjelmassa hauskaa ohjelmaa\, mukavaa yhdessäoloa ja joulupuuroa! \nOhjelma (muutokset mahdollisia):\nklo 15.15 ovet avataan\nklo 15.25 tervetusanat\nklo 15.30 Lastentaikuri JiiPee esiintyy\nklo 16.15 joulupuuro ja piparit\nklo 17.15 juhlat päättyvät \nIlmoittautuminen 17.11. – 17.12.2025 jäsenrekisterissä. Muista ilmoittaa ruoka-aineallergiat (joulupuuro on laktoositon). \nTapahtuma on vain Helsingin Seudun Monikkoperheet ry:n jäsenperheille ja ilmoittautuneiden jäsenyys tarkistetaan. Vuoden 2025 jäsenmaksu tulee olla maksettuna voidakseen osallistua tapahtumaan. Tapahtuma on jäsenperheille maksuton. \nLisätietoja ja tarvittaessa apua ilmoittautumiseen tapahtuma.hmp@gmail.com
URL:https://www.hmp.fi/tapahtuma/pikkujoulut-2025/
LOCATION:Puistokulma\, Talkootie 4\, Vantaa
CATEGORIES:Ilmoittautuminen vaaditaan,muut
ATTACH;FMTTYPE=image/jpeg:https://www.hmp.fi/wp-content/uploads/2021/12/jouluvauvat-2000x533-1.jpg
ORGANIZER;CN="HMP Tapahtumat":MAILTO:tapahtuma.hmp@gmail.com
END:VEVENT
END:VCALENDAR