BEGIN:VCALENDAR
VERSION:2.0
PRODID:-//Helsingin Seudun Monikkoperheet - ECPv6.15.12.1//NONSGML v1.0//EN
CALSCALE:GREGORIAN
METHOD:PUBLISH
X-ORIGINAL-URL:https://www.hmp.fi
X-WR-CALDESC:Tapahtumat Helsingin Seudun Monikkoperheet
REFRESH-INTERVAL;VALUE=DURATION:PT1H
X-Robots-Tag:noindex
X-PUBLISHED-TTL:PT1H
BEGIN:VTIMEZONE
TZID:Europe/Helsinki
BEGIN:DAYLIGHT
TZOFFSETFROM:+0200
TZOFFSETTO:+0300
TZNAME:EEST
DTSTART:20250330T010000
END:DAYLIGHT
BEGIN:STANDARD
TZOFFSETFROM:+0300
TZOFFSETTO:+0200
TZNAME:EET
DTSTART:20251026T010000
END:STANDARD
BEGIN:DAYLIGHT
TZOFFSETFROM:+0200
TZOFFSETTO:+0300
TZNAME:EEST
DTSTART:20260329T010000
END:DAYLIGHT
BEGIN:STANDARD
TZOFFSETFROM:+0300
TZOFFSETTO:+0200
TZNAME:EET
DTSTART:20261025T010000
END:STANDARD
BEGIN:DAYLIGHT
TZOFFSETFROM:+0200
TZOFFSETTO:+0300
TZNAME:EEST
DTSTART:20270328T010000
END:DAYLIGHT
BEGIN:STANDARD
TZOFFSETFROM:+0300
TZOFFSETTO:+0200
TZNAME:EET
DTSTART:20271031T010000
END:STANDARD
END:VTIMEZONE
BEGIN:VEVENT
DTSTART;TZID=Europe/Helsinki:20260301T100000
DTEND;TZID=Europe/Helsinki:20260301T120000
DTSTAMP:20260421T125344
CREATED:20260202T203026Z
LAST-MODIFIED:20260202T203026Z
UID:9638-1772359200-1772366400@www.hmp.fi
SUMMARY:Pomppulinnaparkin monikkopomput
DESCRIPTION:Hei me pompitaan! Juhlistamme monikkoutta Kolmostenpäivän 3.3. iloksi yhdistyksen yksityistilaisuudessa. Tervetuloa pomppimaan jäsenperheiden monikot ja heidän sisaruksensa. \nPomppiminen sopii niin isoille kuin pienille. Pomppulinnoja on monia erilaisia eri kokoisille pomppijoille. Tarjolla on myös yksin ja kaksin pelattavia pelejä ja viihdykkeitä\, jotka pitävät myös aikuiset vauhdissa. \nTapahtuma on yhdistyksen jäsenperheille ja maksuton. Peruutathan osallistumisen hyvissä ajoin\, mikäli ette pääsekään paikalle. \nAlle 12-vuotiailla pitää olla huoltaja mukana. Luethan Pomppulinnaparkin säännöt ja sitoudut noudattamaan niitä https://pomppulinnapark.fi/saannot \nLöydät Pomppulinnaparkin kauppakeskus REDIn 2. kerroksesta\, Jyskin vierestä. Näin saavut REDIin \nIlmoittautuminen tapahtumaan jäsenrekisterissä 5.2. -27.2.2026.
URL:https://www.hmp.fi/tapahtuma/monikkopomput010326/
LOCATION:Pomppulinnapark REDI
CATEGORIES:Ilmoittautuminen vaaditaan,muut
ATTACH;FMTTYPE=image/jpeg:https://www.hmp.fi/wp-content/uploads/2024/02/pomppulinnapark.jpg
ORGANIZER;CN="HMP Tapahtumat":MAILTO:tapahtuma.hmp@gmail.com
END:VEVENT
END:VCALENDAR